BEGIN:VCALENDAR
VERSION:2.0
PRODID:SchoolNow
CALSCALE:GREGORIAN
BEGIN:VEVENT
UID:d8b6466a-cea5-11ef-ae6e-0a58a9feac02
DTSTAMP:20250130T142210Z
SUMMARY:Parent-Teacher conferences
URL;VALUE=URI:https://www.albanyschools.org/schools/myers/calendar/7291769/
 parent-teacher-conferences
DTSTART:20250207T170000Z
DTEND:20250207T200000Z
END:VEVENT
END:VCALENDAR
