BEGIN:VCALENDAR
VERSION:2.0
PRODID:SchoolNow
CALSCALE:GREGORIAN
BEGIN:VEVENT
UID:8b240bf6-dd89-11ef-9865-0a58a9feac02
DTSTAMP:20250204T142932Z
SUMMARY:Financial Literacy Workshop
URL;VALUE=URI:https://www.albanyschools.org/schools/myers/calendar/7385971/
 financial-literacy-workshop
DTSTART:20250227T220000Z
DTEND:20250228T000000Z
END:VEVENT
END:VCALENDAR
