BEGIN:VCALENDAR
VERSION:2.0
PRODID:SchoolNow
CALSCALE:GREGORIAN
BEGIN:VEVENT
UID:781c93e6-e3ee-11ef-a871-0e509e4cabcd
DTSTAMP:20250205T182442Z
SUMMARY:PTSA Meeting
URL;VALUE=URI:https://www.albanyschools.org/schools/myers/calendar/7427710/
 ptsa-meeting
DTSTART:20250211T223000Z
DTEND:20250211T233000Z
END:VEVENT
END:VCALENDAR
