BEGIN:VCALENDAR
VERSION:2.0
PRODID:SchoolNow
CALSCALE:GREGORIAN
BEGIN:VEVENT
UID:8918a7fc-e3ee-11ef-acd1-0a58a9feac02
DTSTAMP:20250205T182511Z
SUMMARY:PTSA Meeting
URL;VALUE=URI:https://www.albanyschools.org/schools/myers/calendar/7427711/
 ptsa-meeting-clone
DTSTART:20250311T213000Z
DTEND:20250311T223000Z
END:VEVENT
END:VCALENDAR
