BEGIN:VCALENDAR
VERSION:2.0
PRODID:SchoolNow
CALSCALE:GREGORIAN
BEGIN:VEVENT
UID:9cd0da4e-e3ee-11ef-97f1-0a58a9feac02
DTSTAMP:20250205T182544Z
SUMMARY:PTSA Meeting
URL;VALUE=URI:https://www.albanyschools.org/schools/myers/calendar/7427712/
 ptsa-meeting-clone-clone
DTSTART:20250422T213000Z
DTEND:20250422T223000Z
END:VEVENT
END:VCALENDAR
