BEGIN:VCALENDAR
VERSION:2.0
PRODID:SchoolNow
CALSCALE:GREGORIAN
BEGIN:VEVENT
UID:ad66f06e-e3ee-11ef-b99e-0e509e4cabcd
DTSTAMP:20250205T182612Z
SUMMARY:Spring Fling
URL;VALUE=URI:https://www.albanyschools.org/schools/myers/calendar/7427713/
 spring-fling
DTSTART:20250424T210000Z
DTEND:20250424T230000Z
END:VEVENT
END:VCALENDAR
