BEGIN:VCALENDAR
VERSION:2.0
PRODID:SchoolNow
CALSCALE:GREGORIAN
BEGIN:VEVENT
UID:c2a8e658-e3ee-11ef-90df-0a58a9feac02
DTSTAMP:20250205T182647Z
SUMMARY:Q3 Honor Roll Ceremony
URL;VALUE=URI:https://www.albanyschools.org/schools/myers/calendar/7427714/
 q3-honor-roll-ceremony
DTSTART:20250509T123000Z
DTEND:20250509T133000Z
END:VEVENT
END:VCALENDAR
