BEGIN:VCALENDAR
VERSION:2.0
PRODID:SchoolNow
CALSCALE:GREGORIAN
BEGIN:VEVENT
UID:002260bc-e7c9-11ef-918d-0a58a9feac02
DTSTAMP:20250210T160634Z
SUMMARY:Spring Concert and Art Show
URL;VALUE=URI:https://www.albanyschools.org/schools/myers/calendar/7448363/
 spring-concert-and-art-show
DTSTART:20250520T220000Z
DTEND:20250520T230000Z
END:VEVENT
END:VCALENDAR
