BEGIN:VCALENDAR
VERSION:2.0
PRODID:SchoolNow
CALSCALE:GREGORIAN
BEGIN:VEVENT
UID:bc33428e-f922-11ef-9853-0a58a9feac02
DTSTAMP:20250304T180145Z
SUMMARY:Myers Mixer
URL;VALUE=URI:https://www.albanyschools.org/schools/myers/calendar/7600640/
 myers-mixer
DTSTART:20250323T170000Z
DTEND:20250323T190000Z
END:VEVENT
END:VCALENDAR
