BEGIN:VCALENDAR
VERSION:2.0
PRODID:SchoolNow
CALSCALE:GREGORIAN
BEGIN:VEVENT
UID:ac78f98c-0021-11f0-965e-0a58a9feac02
DTSTAMP:20250422T182536Z
SUMMARY:NYS English Language Arts exam\, grades 6-8 (updated)
URL;VALUE=URI:https://www.albanyschools.org/schools/myers/calendar/7674350/
 english-language-arts-exam-grades-6-8
DTSTART;VALUE=DATE:20250506
DTEND;VALUE=DATE:20250508
END:VEVENT
END:VCALENDAR
