BEGIN:VCALENDAR
VERSION:2.0
PRODID:SchoolNow
CALSCALE:GREGORIAN
BEGIN:VEVENT
UID:e69cb950-0021-11f0-a5ab-0affe26cedb9
DTSTAMP:20250313T154325Z
SUMMARY:NYS Math exam\, grades 6-8
URL;VALUE=URI:https://www.albanyschools.org/schools/myers/calendar/7674353/
 nys-math-exam-grades-6-8
DTSTART;VALUE=DATE:20250429
DTEND;VALUE=DATE:20250501
END:VEVENT
END:VCALENDAR
