BEGIN:VCALENDAR
VERSION:2.0
PRODID:SchoolNow
CALSCALE:GREGORIAN
BEGIN:VEVENT
UID:7b869d5e-277a-11f0-8454-0a58a9feac02
DTSTAMP:20250502T172546Z
SUMMARY:Grade 7 Union to WildPlay
URL;VALUE=URI:https://www.albanyschools.org/schools/myers/calendar/8054001/
 grade-7-union-to-wildplay
DTSTART:20250616T172500Z
DTEND:20250616T182500Z
END:VEVENT
END:VCALENDAR
