BEGIN:VCALENDAR
VERSION:2.0
PRODID:SchoolNow
CALSCALE:GREGORIAN
BEGIN:VEVENT
UID:8f3fbc7c-277a-11f0-9219-0a58a9feac02
DTSTAMP:20250502T172619Z
SUMMARY:Grade 6 Sage to Spectrum
URL;VALUE=URI:https://www.albanyschools.org/schools/myers/calendar/8054002/
 grade-6-sage-to-spectrum
DTSTART:20250616T172500Z
DTEND:20250616T182500Z
END:VEVENT
END:VCALENDAR
