BEGIN:VCALENDAR
VERSION:2.0
PRODID:SchoolNow
CALSCALE:GREGORIAN
BEGIN:VEVENT
UID:cf643012-277a-11f0-a916-0e56e220a191
DTSTAMP:20250502T172806Z
SUMMARY:Grade 7 RPI to WildPlay
URL;VALUE=URI:https://www.albanyschools.org/schools/myers/calendar/8054003/
 grade-7-rpi-to-wildplay
DTSTART:20250617T172700Z
DTEND:20250617T182700Z
END:VEVENT
END:VCALENDAR
