BEGIN:VCALENDAR
VERSION:2.0
PRODID:SchoolNow
CALSCALE:GREGORIAN
BEGIN:VEVENT
UID:f1f735ce-277b-11f0-8af8-02d28d33b207
DTSTAMP:20250502T173614Z
SUMMARY:Grade 6 to DelLanes
URL;VALUE=URI:https://www.albanyschools.org/schools/myers/calendar/8054004/
 grade-6-to-dellanes
DTSTART:20250617T172800Z
DTEND:20250617T182800Z
END:VEVENT
END:VCALENDAR
