BEGIN:VCALENDAR
VERSION:2.0
PRODID:SchoolNow
CALSCALE:GREGORIAN
BEGIN:VEVENT
UID:20ddbcdc-277c-11f0-8bd4-0a58a9feac02
DTSTAMP:20250502T173732Z
SUMMARY:Q4 Attendance BBQ (for qualifying students)
URL;VALUE=URI:https://www.albanyschools.org/schools/myers/calendar/8054006/
 q4-attendance-bbq-for-qualifying-students
DTSTART:20250620T173700Z
DTEND:20250620T183700Z
END:VEVENT
END:VCALENDAR
