BEGIN:VCALENDAR
VERSION:2.0
PRODID:SchoolNow
CALSCALE:GREGORIAN
BEGIN:VEVENT
UID:5dc4387e-277c-11f0-aedd-0a58a9feac02
DTSTAMP:20250602T142216Z
SUMMARY:Grade 8 dance
URL;VALUE=URI:https://www.albanyschools.org/schools/myers/calendar/8054008/
 grade-8-dance
DTSTART:20250626T210000Z
DTEND:20250626T230000Z
END:VEVENT
END:VCALENDAR
