BEGIN:VCALENDAR
VERSION:2.0
PRODID:SchoolNow
CALSCALE:GREGORIAN
BEGIN:VEVENT
UID:1fcf2390-3fbd-11f0-aad6-0a58a9feac02
DTSTAMP:20250602T142316Z
SUMMARY:PTSA meeting
URL;VALUE=URI:https://www.albanyschools.org/schools/myers/calendar/8240795/
 ptsa-meeting
DTSTART:20250618T213000Z
DTEND:20250618T223000Z
END:VEVENT
END:VCALENDAR
