BEGIN:VCALENDAR
VERSION:2.0
PRODID:SchoolNow
CALSCALE:GREGORIAN
BEGIN:VEVENT
UID:b38cfd42-4c5f-11f0-8149-0affe33dc041
DTSTAMP:20250618T162054Z
SUMMARY:Grade 6 Transition Camp at Myers
URL;VALUE=URI:https://www.albanyschools.org/schools/myers/calendar/8324330/
 grade-6-transition-camp-at-myers
DTSTART:20250825T123000Z
DTEND:20250828T163000Z
END:VEVENT
END:VCALENDAR
