BEGIN:VCALENDAR
VERSION:2.0
PRODID:SchoolNow
CALSCALE:GREGORIAN
BEGIN:VEVENT
UID:dbc424ca-4c5f-11f0-9119-0afff89ce305
DTSTAMP:20250618T161824Z
SUMMARY:2025-26 Family Orientation
URL;VALUE=URI:https://www.albanyschools.org/schools/myers/calendar/8324335/
 2025-26-family-orientation
DTSTART:20250819T210000Z
DTEND:20250819T220000Z
END:VEVENT
END:VCALENDAR
