BEGIN:VCALENDAR
VERSION:2.0
PRODID:SchoolNow
CALSCALE:GREGORIAN
BEGIN:VEVENT
UID:dfd49fb6-6e21-11f0-a77a-0a58a9feac02
DTSTAMP:20250812T150024Z
SUMMARY:First day of school for grades 6-8
URL;VALUE=URI:https://www.albanyschools.org/schools/myers/calendar/8460728/
 first-day-of-school-for-grade-6
DTSTART:20250904T120000Z
DTEND:20250904T190000Z
END:VEVENT
END:VCALENDAR
