BEGIN:VCALENDAR
VERSION:2.0
PRODID:SchoolNow
CALSCALE:GREGORIAN
BEGIN:VEVENT
UID:07115b4e-6eec-11f0-96c4-0a58a9feac02
DTSTAMP:20250801T152725Z
SUMMARY:ATHLETICS: modified spring sports begin
URL;VALUE=URI:https://www.albanyschools.org/schools/myers/calendar/8463434/
 athletics-modified-spring-sports-begin
DTSTART;VALUE=DATE:20260323
DTEND;VALUE=DATE:20260324
END:VEVENT
END:VCALENDAR
