BEGIN:VCALENDAR
VERSION:2.0
PRODID:SchoolNow
CALSCALE:GREGORIAN
BEGIN:VEVENT
UID:831c89f8-6ef0-11f0-9ec3-0a58a9feac02
DTSTAMP:20260414T172627Z
SUMMARY:ATHLETICS: registration begins for modified fall sports
URL;VALUE=URI:https://www.albanyschools.org/schools/myers/calendar/8463896/
 athletics-registration-begins-for-modified-fall-sports
DTSTART;VALUE=DATE:20260727
DTEND;VALUE=DATE:20260728
END:VEVENT
END:VCALENDAR
