BEGIN:VCALENDAR
VERSION:2.0
PRODID:SchoolNow
CALSCALE:GREGORIAN
BEGIN:VEVENT
UID:0409a1e8-81d1-11f0-991c-0e5d3462789d
DTSTAMP:20250825T190255Z
SUMMARY:PTSA Meeting
URL;VALUE=URI:https://www.albanyschools.org/schools/myers/calendar/8541205/
 ptsa-meeting
DTSTART:20250910T213000Z
DTEND:20250910T230000Z
END:VEVENT
END:VCALENDAR
