BEGIN:VCALENDAR
VERSION:2.0
PRODID:SchoolNow
CALSCALE:GREGORIAN
BEGIN:VEVENT
UID:45cda6c4-81d1-11f0-b9a4-0a58a9feac02
DTSTAMP:20250825T163346Z
SUMMARY:Open House\, Community Partner Mixer and PTSA Ice Cream Social
URL;VALUE=URI:https://www.albanyschools.org/schools/myers/calendar/8541206/
 open-house-community-partner-mixer-and-ptsa-ice-cream-social
DTSTART:20250917T203000Z
DTEND:20250917T223000Z
END:VEVENT
END:VCALENDAR
