BEGIN:VCALENDAR
VERSION:2.0
PRODID:SchoolNow
CALSCALE:GREGORIAN
BEGIN:VEVENT
UID:66803f4e-81d1-11f0-9630-0a58a9feac02
DTSTAMP:20250825T163441Z
SUMMARY:Q1 interim grades close
URL;VALUE=URI:https://www.albanyschools.org/schools/myers/calendar/8541207/
 q1-interim-grades-close
DTSTART:20251010T163400Z
DTEND:20251010T173400Z
END:VEVENT
END:VCALENDAR
