BEGIN:VCALENDAR
VERSION:2.0
PRODID:SchoolNow
CALSCALE:GREGORIAN
BEGIN:VEVENT
UID:8f1ecf60-81d1-11f0-95d5-0a58a9feac02
DTSTAMP:20250924T132648Z
SUMMARY:12:30 p.m. dismissal for staff PD
URL;VALUE=URI:https://www.albanyschools.org/schools/myers/calendar/8541209/
 1-p-m-dismissal-for-staff-pd
DTSTART:20251015T163000Z
DTEND:20251015T173000Z
END:VEVENT
END:VCALENDAR
