BEGIN:VCALENDAR
VERSION:2.0
PRODID:SchoolNow
CALSCALE:GREGORIAN
BEGIN:VEVENT
UID:bac2ac86-81d1-11f0-a4ed-025850da6195
DTSTAMP:20250825T163702Z
SUMMARY:Picture Day(s)
URL;VALUE=URI:https://www.albanyschools.org/schools/myers/calendar/8541211/
 picture-day-s
DTSTART:20251021T163600Z
DTEND:20251022T173600Z
END:VEVENT
END:VCALENDAR
