BEGIN:VCALENDAR
VERSION:2.0
PRODID:SchoolNow
CALSCALE:GREGORIAN
BEGIN:VEVENT
UID:d8d65948-81d1-11f0-9f48-0a58a9feac02
DTSTAMP:20250825T163753Z
SUMMARY:Parent/Teacher Conferences (evening)
URL;VALUE=URI:https://www.albanyschools.org/schools/myers/calendar/8541212/
 parent-teacher-conferences-evening
DTSTART:20251023T163700Z
DTEND:20251023T173700Z
END:VEVENT
END:VCALENDAR
