BEGIN:VCALENDAR
VERSION:2.0
PRODID:SchoolNow
CALSCALE:GREGORIAN
BEGIN:VEVENT
UID:e993fde4-81d1-11f0-bf97-0affc1bf85c7
DTSTAMP:20250825T163821Z
SUMMARY:Parent/Teacher Conferences (NO SCHOOL)
URL;VALUE=URI:https://www.albanyschools.org/schools/myers/calendar/8541213/
 parent-teacher-conferences-no-school
DTSTART:20251024T163700Z
DTEND:20251024T173700Z
END:VEVENT
END:VCALENDAR
