BEGIN:VCALENDAR
VERSION:2.0
PRODID:SchoolNow
CALSCALE:GREGORIAN
BEGIN:VEVENT
UID:0d8582fe-81d2-11f0-80ba-0affc1bf85c7
DTSTAMP:20251007T144702Z
SUMMARY:Spirit Week
URL;VALUE=URI:https://www.albanyschools.org/schools/myers/calendar/8541216/
 spirit-week
DTSTART:20251027T163900Z
DTEND:20251031T173900Z
END:VEVENT
END:VCALENDAR
