BEGIN:VCALENDAR
VERSION:2.0
PRODID:SchoolNow
CALSCALE:GREGORIAN
BEGIN:VEVENT
UID:1aa11fb6-81d2-11f0-b297-029f65b6582b
DTSTAMP:20250825T164012Z
SUMMARY:Q1 grades close
URL;VALUE=URI:https://www.albanyschools.org/schools/myers/calendar/8541218/
 q1-grades-close
DTSTART:20251107T173900Z
DTEND:20251107T183900Z
END:VEVENT
END:VCALENDAR
