BEGIN:VCALENDAR
VERSION:2.0
PRODID:SchoolNow
CALSCALE:GREGORIAN
BEGIN:VEVENT
UID:7ac5700e-81d2-11f0-a625-0affee066179
DTSTAMP:20250924T132711Z
SUMMARY:12:30 p.m. dismissal for staff PD
URL;VALUE=URI:https://www.albanyschools.org/schools/myers/calendar/8541226/
 1-p-m-dismissal-for-staff-pd
DTSTART:20251119T173000Z
DTEND:20251119T183000Z
END:VEVENT
END:VCALENDAR
