BEGIN:VCALENDAR
VERSION:2.0
PRODID:SchoolNow
CALSCALE:GREGORIAN
BEGIN:VEVENT
UID:884e7ad6-81d2-11f0-86d2-0affee066179
DTSTAMP:20250825T164247Z
SUMMARY:Picture Day make ups
URL;VALUE=URI:https://www.albanyschools.org/schools/myers/calendar/8541227/
 picture-day-make-ups
DTSTART:20251120T174200Z
DTEND:20251120T184200Z
END:VEVENT
END:VCALENDAR
