BEGIN:VCALENDAR
VERSION:2.0
PRODID:SchoolNow
CALSCALE:GREGORIAN
BEGIN:VEVENT
UID:9b086b00-81d2-11f0-866d-0e5d3462789d
DTSTAMP:20250825T164319Z
SUMMARY:Fall Ball
URL;VALUE=URI:https://www.albanyschools.org/schools/myers/calendar/8541228/
 fall-ball
DTSTART:20251120T220000Z
DTEND:20251121T000000Z
END:VEVENT
END:VCALENDAR
