BEGIN:VCALENDAR
VERSION:2.0
PRODID:SchoolNow
CALSCALE:GREGORIAN
BEGIN:VEVENT
UID:f7da1d8c-81d8-11f0-9f40-0a58a9feac02
DTSTAMP:20251107T155101Z
SUMMARY:12:30 p.m. dismissal for staff PD
URL;VALUE=URI:https://www.albanyschools.org/schools/myers/calendar/8541303/
 1-p-m-dismissal-for-staff-pd
DTSTART:20260114T173000Z
DTEND:20260114T183000Z
END:VEVENT
END:VCALENDAR
