BEGIN:VCALENDAR
VERSION:2.0
PRODID:SchoolNow
CALSCALE:GREGORIAN
BEGIN:VEVENT
UID:29f25de6-8d93-11f0-8d40-0a58a9feac02
DTSTAMP:20250909T153925Z
SUMMARY:Winter Concert and Art Show
URL;VALUE=URI:https://www.albanyschools.org/schools/myers/calendar/8599509/
 winter-concert-and-art-show
DTSTART:20251211T233000Z
DTEND:20251212T003000Z
END:VEVENT
END:VCALENDAR
