BEGIN:VCALENDAR
VERSION:2.0
PRODID:SchoolNow
CALSCALE:GREGORIAN
BEGIN:VEVENT
UID:47111764-a38c-11f0-b241-0affe9892fbd
DTSTAMP:20251007T144533Z
SUMMARY:PTSA meeting
URL;VALUE=URI:https://www.albanyschools.org/schools/myers/calendar/8702819/
 ptsa-meeting
DTSTART:20251015T213000Z
DTEND:20251015T223000Z
END:VEVENT
END:VCALENDAR
