BEGIN:VCALENDAR
VERSION:2.0
PRODID:SchoolNow
CALSCALE:GREGORIAN
BEGIN:VEVENT
UID:510016b2-a38c-11f0-bb05-0a58a9feac02
DTSTAMP:20251007T202811Z
SUMMARY:Trunk or Treat
URL;VALUE=URI:https://www.albanyschools.org/schools/myers/calendar/8702820/
 trunk-or-treat
DTSTART:20251028T190000Z
DTEND:20251028T220000Z
END:VEVENT
END:VCALENDAR
