BEGIN:VCALENDAR
VERSION:2.0
PRODID:SchoolNow
CALSCALE:GREGORIAN
BEGIN:VEVENT
UID:9c098eaa-ba5b-11f0-b9d1-0ed803c557bd
DTSTAMP:20251105T152507Z
SUMMARY:Q1 Honor Roll Ceremony
URL;VALUE=URI:https://www.albanyschools.org/schools/myers/calendar/8779011/
 q1-honor-roll-ceremony
DTSTART:20251121T133000Z
DTEND:20251121T143000Z
END:VEVENT
END:VCALENDAR
