BEGIN:VCALENDAR
VERSION:2.0
PRODID:SchoolNow
CALSCALE:GREGORIAN
BEGIN:VEVENT
UID:ac61fa58-ba5b-11f0-a117-0a58a9feac02
DTSTAMP:20251105T152534Z
SUMMARY:Q2 Honor Roll Ceremony
URL;VALUE=URI:https://www.albanyschools.org/schools/myers/calendar/8779012/
 q2-honor-roll-ceremony
DTSTART:20260213T133000Z
DTEND:20260213T143000Z
END:VEVENT
END:VCALENDAR
