BEGIN:VCALENDAR
VERSION:2.0
PRODID:SchoolNow
CALSCALE:GREGORIAN
BEGIN:VEVENT
UID:bdb23110-ba5b-11f0-b60b-0affd0ed08b3
DTSTAMP:20251105T152603Z
SUMMARY:Q3 Honor Roll Ceremony
URL;VALUE=URI:https://www.albanyschools.org/schools/myers/calendar/8779013/
 q3-honor-roll-ceremony
DTSTART:20260424T123000Z
DTEND:20260424T133000Z
END:VEVENT
END:VCALENDAR
