BEGIN:VCALENDAR
VERSION:2.0
PRODID:SchoolNow
CALSCALE:GREGORIAN
BEGIN:VEVENT
UID:d3035d28-ba5b-11f0-b476-0ed803c557bd
DTSTAMP:20251105T152639Z
SUMMARY:PTSA meeting
URL;VALUE=URI:https://www.albanyschools.org/schools/myers/calendar/8779014/
 ptsa-meeting
DTSTART:20251119T152600Z
DTEND:20251119T162600Z
END:VEVENT
END:VCALENDAR
