BEGIN:VCALENDAR
VERSION:2.0
PRODID:SchoolNow
CALSCALE:GREGORIAN
BEGIN:VEVENT
UID:f7e01956-ba5b-11f0-ab48-0a58a9feac02
DTSTAMP:20251105T152741Z
SUMMARY:Toys for Tots holiday event
URL;VALUE=URI:https://www.albanyschools.org/schools/myers/calendar/8779017/
 toys-for-tots-holiday-event
DTSTART:20251211T152700Z
DTEND:20251211T162700Z
END:VEVENT
END:VCALENDAR
