BEGIN:VCALENDAR
VERSION:2.0
PRODID:SchoolNow
CALSCALE:GREGORIAN
BEGIN:VEVENT
UID:6f83089c-ba5c-11f0-ac60-02234586cfdd
DTSTAMP:20251105T153101Z
SUMMARY:Q2 grades close
URL;VALUE=URI:https://www.albanyschools.org/schools/myers/calendar/8779076/
 q2-grades-close
DTSTART:20260123T153000Z
DTEND:20260123T163000Z
END:VEVENT
END:VCALENDAR
