BEGIN:VCALENDAR
VERSION:2.0
PRODID:SchoolNow
CALSCALE:GREGORIAN
BEGIN:VEVENT
UID:aedfa180-ba5c-11f0-aafd-0a58a9feac02
DTSTAMP:20251105T154739Z
SUMMARY:Winter Wonderland Dance
URL;VALUE=URI:https://www.albanyschools.org/schools/myers/calendar/8779077/
 winter-wonderland-dance
DTSTART:20260226T220000Z
DTEND:20260227T000000Z
END:VEVENT
END:VCALENDAR
