BEGIN:VCALENDAR
VERSION:2.0
PRODID:SchoolNow
CALSCALE:GREGORIAN
BEGIN:VEVENT
UID:ba16911a-bb4e-11f0-8fbf-0affd0ed08b3
DTSTAMP:20260123T170025Z
SUMMARY:SECONDARY MARKING PERIOD (1/23)
URL;VALUE=URI:https://www.albanyschools.org/schools/myers/calendar/8781407/
 secondary-marking-period-1-23
DTSTART;VALUE=DATE:20260123
DTEND;VALUE=DATE:20260124
END:VEVENT
END:VCALENDAR
