BEGIN:VCALENDAR
VERSION:2.0
PRODID:SchoolNow
CALSCALE:GREGORIAN
BEGIN:VEVENT
UID:dbca5684-bb4e-11f0-a13b-0afffa06ec9d
DTSTAMP:20251106T202621Z
SUMMARY:SECONDARY MARKING PERIOD (5/8)
URL;VALUE=URI:https://www.albanyschools.org/schools/myers/calendar/8781425/
 secondary-marking-period-5-8
DTSTART;VALUE=DATE:20260508
DTEND;VALUE=DATE:20260509
END:VEVENT
END:VCALENDAR
