BEGIN:VCALENDAR
VERSION:2.0
PRODID:SchoolNow
CALSCALE:GREGORIAN
BEGIN:VEVENT
UID:a0d8946a-d470-11f0-9580-0e8b00643d1b
DTSTAMP:20251208T200104Z
SUMMARY:PTSA meeting
URL;VALUE=URI:https://www.albanyschools.org/schools/myers/calendar/8820094/
 ptsa-meeting
DTSTART:20251210T223000Z
DTEND:20251210T233000Z
END:VEVENT
END:VCALENDAR
