BEGIN:VCALENDAR
VERSION:2.0
PRODID:SchoolNow
CALSCALE:GREGORIAN
BEGIN:VEVENT
UID:0971e69a-efd1-11f0-96a9-0a58a9feac02
DTSTAMP:20260112T161020Z
SUMMARY:PTSA meeting
URL;VALUE=URI:https://www.albanyschools.org/schools/myers/calendar/8834947/
 ptsa-meeting
DTSTART:20260120T223000Z
DTEND:20260120T233000Z
END:VEVENT
END:VCALENDAR
